BEGIN:VCALENDAR
VERSION:2.0
PRODID:-//KY Car Show//Events//EN
CALSCALE:GREGORIAN
METHOD:PUBLISH
BEGIN:VEVENT
UID:event-855-20260418@www.kycarshow.com
DTSTAMP:20260419T143244Z
DTSTART;VALUE=DATE:20260418
DTEND;VALUE=DATE:20260419
SUMMARY:Show &amp\; Go Car Club Cruise-In
STATUS:CONFIRMED
END:VEVENT
END:VCALENDAR
