BEGIN:VCALENDAR
VERSION:2.0
PRODID:-//KY Car Show//Events//EN
CALSCALE:GREGORIAN
METHOD:PUBLISH
BEGIN:VEVENT
UID:event-844-20260502@www.kycarshow.com
DTSTAMP:20260421T141356Z
DTSTART;VALUE=DATE:20260502
DTEND;VALUE=DATE:20260503
SUMMARY:Liberty Friday Night Cruisers
STATUS:CONFIRMED
END:VEVENT
END:VCALENDAR
