BEGIN:VCALENDAR
VERSION:2.0
PRODID:-//KY Car Show//Events//EN
CALSCALE:GREGORIAN
METHOD:PUBLISH
BEGIN:VEVENT
UID:event-893-20270410@www.kycarshow.com
DTSTAMP:20260420T090118Z
DTSTART;VALUE=DATE:20270410
DTEND;VALUE=DATE:20270411
SUMMARY:Cars and Coffee for Dystonia
STATUS:CONFIRMED
END:VEVENT
END:VCALENDAR
